BEGIN:VCALENDAR
VERSION:2.0
PRODID:-//Minority Aids Support Services - ECPv6.15.11//NONSGML v1.0//EN
CALSCALE:GREGORIAN
METHOD:PUBLISH
X-WR-CALNAME:Minority Aids Support Services
X-ORIGINAL-URL:https://minorityaidssupport.org
X-WR-CALDESC:Events for Minority Aids Support Services
REFRESH-INTERVAL;VALUE=DURATION:PT1H
X-Robots-Tag:noindex
X-PUBLISHED-TTL:PT1H
BEGIN:VTIMEZONE
TZID:America/New_York
BEGIN:DAYLIGHT
TZOFFSETFROM:-0500
TZOFFSETTO:-0400
TZNAME:EDT
DTSTART:20210314T070000
END:DAYLIGHT
BEGIN:STANDARD
TZOFFSETFROM:-0400
TZOFFSETTO:-0500
TZNAME:EST
DTSTART:20211107T060000
END:STANDARD
BEGIN:DAYLIGHT
TZOFFSETFROM:-0500
TZOFFSETTO:-0400
TZNAME:EDT
DTSTART:20220313T070000
END:DAYLIGHT
BEGIN:STANDARD
TZOFFSETFROM:-0400
TZOFFSETTO:-0500
TZNAME:EST
DTSTART:20221106T060000
END:STANDARD
BEGIN:DAYLIGHT
TZOFFSETFROM:-0500
TZOFFSETTO:-0400
TZNAME:EDT
DTSTART:20230312T070000
END:DAYLIGHT
BEGIN:STANDARD
TZOFFSETFROM:-0400
TZOFFSETTO:-0500
TZNAME:EST
DTSTART:20231105T060000
END:STANDARD
BEGIN:DAYLIGHT
TZOFFSETFROM:-0500
TZOFFSETTO:-0400
TZNAME:EDT
DTSTART:20240310T070000
END:DAYLIGHT
BEGIN:STANDARD
TZOFFSETFROM:-0400
TZOFFSETTO:-0500
TZNAME:EST
DTSTART:20241103T060000
END:STANDARD
END:VTIMEZONE
BEGIN:VEVENT
DTSTART;TZID=America/New_York:20231130T080000
DTEND;TZID=America/New_York:20231130T170000
DTSTAMP:20260425T231222
CREATED:20231203T041950Z
LAST-MODIFIED:20231203T165053Z
UID:3905-1701331200-1701363600@minorityaidssupport.org
SUMMARY:Renaissance: A Film By Beyonce
DESCRIPTION:MASS and STRC is hosting a movie night.
URL:https://minorityaidssupport.org/event/renaissance-a-film-by-beyonce/
END:VEVENT
BEGIN:VEVENT
DTSTART;TZID=America/New_York:20231120T180000
DTEND;TZID=America/New_York:20231120T233000
DTSTAMP:20260425T231222
CREATED:20231026T183900Z
LAST-MODIFIED:20231026T183900Z
UID:3842-1700503200-1700523000@minorityaidssupport.org
SUMMARY:Transcending Hate: National Virtual Town Hall Screening
DESCRIPTION:MASS is hosting the “Watch Party” for the “Transcending Hate: National Virtual Town Hall” of Blaque/Out Magazine. This event will occur at 1401 Tidewater Dr.\, Ste. 10\, Norfolk\, VA  23504 on 11/20/2023 from 6pm – Until. \n 
URL:https://minorityaidssupport.org/event/transcending-hate-national-virtual-town-hall-screening/
LOCATION:1401 Tidewater Dr. Ste. 10\, Norfolk 23504.
END:VEVENT
BEGIN:VEVENT
DTSTART;TZID=America/New_York:20231110T080000
DTEND;TZID=America/New_York:20231110T160000
DTSTAMP:20260425T231222
CREATED:20231026T180053Z
LAST-MODIFIED:20231027T155223Z
UID:3838-1699603200-1699632000@minorityaidssupport.org
SUMMARY:CLOSED FOR HOLIDAY
DESCRIPTION:Today\, we are closed. We will reopen on November 13th during our regular business hours.
URL:https://minorityaidssupport.org/event/closed-for-holiday/
END:VEVENT
BEGIN:VEVENT
DTSTART;TZID=America/New_York:20231021T090000
DTEND;TZID=America/New_York:20231021T150000
DTSTAMP:20260425T231222
CREATED:20231007T001928Z
LAST-MODIFIED:20231007T001928Z
UID:3835-1697878800-1697900400@minorityaidssupport.org
SUMMARY:Hampton & Peninsula Health District -Westhampton Community Center
DESCRIPTION:Join MASS at the Hampton & Peninsula Health District -Westhampton Community Center (1638 Briarfield Rd\, Hampton\, VA 23661). Our Comprehensive Harm Reduction outreach team will be on-site.
URL:https://minorityaidssupport.org/event/hampton-peninsula-health-district-westhampton-community-center/
LOCATION:Hampton & Peninsula Health District -Westhampton Community Center\, 1638 Briarfield Rd\,\, Hampton\, VA\, United States
END:VEVENT
BEGIN:VEVENT
DTSTART;TZID=America/New_York:20231016T180000
DTEND;TZID=America/New_York:20231016T193000
DTSTAMP:20260425T231222
CREATED:20231007T001529Z
LAST-MODIFIED:20231007T001529Z
UID:3833-1697479200-1697484600@minorityaidssupport.org
SUMMARY:Suffolk Discovers- Steven Thrasher on The Viral Underclass
DESCRIPTION:Suffolk Discovers- Steven Thrasher on The Viral Underclass at the North Suffolk Library (2000 Bennetts Creek Park Rd\, Suffolk\, VA. MASS) will be in attendance. We are excited to bring a wealth of literature and promotional items to enhance your experience. We look forward to meeting you at the event and sharing these resources.
URL:https://minorityaidssupport.org/event/suffolk-discovers-steven-thrasher-on-the-viral-underclass/
LOCATION:North Suffolk Library\, 2000 Bennetts Creek Park Rd\, Suffolk\, VA\, United States
END:VEVENT
BEGIN:VEVENT
DTSTART;TZID=America/New_York:20231014T100000
DTEND;TZID=America/New_York:20231014T143000
DTSTAMP:20260425T231222
CREATED:20231007T001119Z
LAST-MODIFIED:20231007T001119Z
UID:3830-1697277600-1697293800@minorityaidssupport.org
SUMMARY:Regular Series-Rainbow Families
DESCRIPTION:Regular Series-Rainbow Families at Morgan Memorial Library. 443 Washington St.\, Suffolk\, VA. MASS will be in attendance. We are excited to bring a wealth of\nliterature and promotional items to enhance your experience. We look forward to meeting you at the event and sharing these resources.
URL:https://minorityaidssupport.org/event/regular-series-rainbow-families/
LOCATION:Morgan Memorial Library\, 443 Washington St.\, Suffolk\, VA\, United States
END:VEVENT
BEGIN:VEVENT
DTSTART;TZID=America/New_York:20231011T160000
DTEND;TZID=America/New_York:20231011T183000
DTSTAMP:20260425T231222
CREATED:20231007T000514Z
LAST-MODIFIED:20231007T000514Z
UID:3827-1697040000-1697049000@minorityaidssupport.org
SUMMARY:National Coming Out Day
DESCRIPTION:National Coming Out Day at the North Suffolk Library (2000 Bennetts Creek Park Rd\, Suffolk\, VA. MASS) will be in attendance. We are excited to bring a wealth of literature and promotional items to enhance your experience. We look forward to meeting you at the event and sharing these resources.
URL:https://minorityaidssupport.org/event/national-coming-out-day/
LOCATION:North Suffolk Library\, 2000 Bennetts Creek Park Rd\, Suffolk\, VA\, United States
END:VEVENT
BEGIN:VEVENT
DTSTART;TZID=America/New_York:20230929T100000
DTEND;TZID=America/New_York:20230929T140000
DTSTAMP:20260425T231222
CREATED:20230905T041812Z
LAST-MODIFIED:20230905T041812Z
UID:3816-1695981600-1695996000@minorityaidssupport.org
SUMMARY:Community Health Fair Tidewater Medical Training - Hampton campus
DESCRIPTION:Join us for the Community Health Fair Tidewater Medical Training – Hampton campus – 1503 Hardy Cash\, Hampton 23666. See the flyer below.
URL:https://minorityaidssupport.org/event/community-health-fair-tidewater-medical-training-hampton-campus/
LOCATION:1503 Hardy Cash\, Hampton 23666
END:VEVENT
BEGIN:VEVENT
DTSTART;TZID=America/New_York:20230921T140000
DTEND;TZID=America/New_York:20230921T180000
DTSTAMP:20260425T231222
CREATED:20230905T041257Z
LAST-MODIFIED:20230905T041355Z
UID:3812-1695304800-1695319200@minorityaidssupport.org
SUMMARY:Community Health Fair Tidewater Medical Training -Virginia Beach campus
DESCRIPTION:Join us for the Community Health Fair Tidewater Medical Training -Virginia Beach campus on 1300 Diamond Springs Ste. 102 Virginia Beach\, 23455. See the flyer below.
URL:https://minorityaidssupport.org/event/community-health-fair-tidewater-medical-training-virginia-beach-campus/
LOCATION:1300 Diamond Springs Ste. 102 Virginia Beach\, 23455
END:VEVENT
BEGIN:VEVENT
DTSTART;TZID=America/New_York:20230914T160000
DTEND;TZID=America/New_York:20230914T190000
DTSTAMP:20260425T231222
CREATED:20230905T042349Z
LAST-MODIFIED:20230905T042349Z
UID:3820-1694707200-1694718000@minorityaidssupport.org
SUMMARY:Save A Life Free Narcan Day
DESCRIPTION:September 14th is Save A Life Free Narcan Day! \nMASS is partnering with the Portsmouth Health\nDepartment to provide FREE Narcan kits\, HIV Testing\,\nand Hepatitis C Testing from 4pm -7pm.
URL:https://minorityaidssupport.org/event/save-a-life-free-narcan-day/
LOCATION:1701 High St.\, 1701 High St.\, Portsmouth
END:VEVENT
BEGIN:VEVENT
DTSTART;TZID=America/New_York:20230902T160000
DTEND;TZID=America/New_York:20230902T190000
DTSTAMP:20260425T231222
CREATED:20230905T040710Z
LAST-MODIFIED:20230905T042506Z
UID:3809-1693670400-1693681200@minorityaidssupport.org
SUMMARY:AveryFest 2023 African American Cultural Festival
DESCRIPTION:Join us for the AveryFest 2023 African American cultural festival. MASS will be testing at this event. Bennetts Creek Park\, 3000 Bennetts Creek Park Rd. Suffolk\, 23435 \n 
URL:https://minorityaidssupport.org/event/averyfest-2023-african-american-cultural-festival/
LOCATION:Bennetts Creek Park\, 3000 Bennetts Creek Park Rd\, Suffolk\, VA\, 23435
END:VEVENT
BEGIN:VEVENT
DTSTART;TZID=America/New_York:20230831T120000
DTEND;TZID=America/New_York:20230831T160000
DTSTAMP:20260425T231222
CREATED:20230803T030305Z
LAST-MODIFIED:20230803T030305Z
UID:3797-1693483200-1693497600@minorityaidssupport.org
SUMMARY:NSU's Labor Day Classic Health Fair
DESCRIPTION:Join us at NSU Labor Day Classic Health Fair on 8/31/2023 from 12 pm – 4 pm!
URL:https://minorityaidssupport.org/event/nsus-labor-day-classic-health-fair/
LOCATION:Norfolk State Universiy
END:VEVENT
BEGIN:VEVENT
DTSTART;TZID=America/New_York:20230819T150000
DTEND;TZID=America/New_York:20230819T180000
DTSTAMP:20260425T231222
CREATED:20230803T025953Z
LAST-MODIFIED:20230803T025953Z
UID:3794-1692457200-1692468000@minorityaidssupport.org
SUMMARY:Rock The Block
DESCRIPTION:Come Rock The Block on 8/19/2023 from 3 pm – 6 pm. We will be at the New Beech Grove Baptist Church on 361 Beechmont Drive\,\nNewport News\, VA 23602.
URL:https://minorityaidssupport.org/event/rock-the-block/
LOCATION:361 Beechmont Drive\, Newport News\, VA 23602.
END:VEVENT
BEGIN:VEVENT
DTSTART;TZID=America/New_York:20230808T100000
DTEND;TZID=America/New_York:20230808T130000
DTSTAMP:20260425T231222
CREATED:20230803T025443Z
LAST-MODIFIED:20230803T025443Z
UID:3792-1691488800-1691499600@minorityaidssupport.org
SUMMARY:Community Meet and Greet
DESCRIPTION:Join MASS on 8/8/2023 from 10 am – 1 pm in our parking lot at our new clinic. 2715 Huntington\,\nNewport News\, VA 23607.
URL:https://minorityaidssupport.org/event/community-meet-and-greet/
LOCATION:2715 Huntington\, Newport News\, VA 23607\, 2715 Huntington\, Newport News\, VA 23607\, Newport News\, VA\, 23607\, United States
END:VEVENT
BEGIN:VEVENT
DTSTART;TZID=America/New_York:20230804T130000
DTEND;TZID=America/New_York:20230804T160000
DTSTAMP:20260425T231222
CREATED:20230803T024203Z
LAST-MODIFIED:20230803T154433Z
UID:3788-1691154000-1691164800@minorityaidssupport.org
SUMMARY:Young Terrace National Night Out Open Field
DESCRIPTION:Come and get tested from 1 pm – 4 pm at the Young Terrace National Night Out Open Field at 824 Smith St.\, Norfolk\, VA.\nMASS will be testing on-site. Click below for the flyer. \nYoung Terrace NNO
URL:https://minorityaidssupport.org/event/young-terrace-national-night-out-open-field/
LOCATION:824 Smith St.\, Norfolk\, VA.
END:VEVENT
BEGIN:VEVENT
DTSTART;TZID=America/New_York:20230802T080000
DTEND;TZID=America/New_York:20230802T200000
DTSTAMP:20260425T231222
CREATED:20230803T031147Z
LAST-MODIFIED:20230803T031147Z
UID:3800-1690963200-1691006400@minorityaidssupport.org
SUMMARY:Harm Reduction Clinic Extended Hours
DESCRIPTION:MASS has a drive-thru window for our Harm Reduction Clinic.  Extended hours are until 8 pm.\nNew Clinic Location: 2715 Huntington\, Newport News\, VA 23607.
URL:https://minorityaidssupport.org/event/harm-reduction-clinic-extended-hours/
LOCATION:2715 Huntington\, Newport News\, VA 23607\, 2715 Huntington\, Newport News\, VA 23607\, Newport News\, VA\, 23607\, United States
END:VEVENT
BEGIN:VEVENT
DTSTART;TZID=America/New_York:20230731T080000
DTEND;TZID=America/New_York:20230731T180000
DTSTAMP:20260425T231222
CREATED:20230706T122529Z
LAST-MODIFIED:20230803T150655Z
UID:3785-1690790400-1690826400@minorityaidssupport.org
SUMMARY:New August Hours
DESCRIPTION:Starting Monday\, July 31st\, our August hours are Tue – Fri 8am- 6pm. We are closed on Mondays. This is only for the month of August\, ending Friday\, September 1st.
URL:https://minorityaidssupport.org/event/new-august-hours/
END:VEVENT
BEGIN:VEVENT
DTSTART;TZID=America/New_York:20230718T200000
DTEND;TZID=America/New_York:20230718T220000
DTSTAMP:20260425T231222
CREATED:20230706T122219Z
LAST-MODIFIED:20230706T122219Z
UID:3782-1689710400-1689717600@minorityaidssupport.org
SUMMARY:LadieZ Night Bowling Party
DESCRIPTION:Join us for a Ladiez Night Out Bowling Party!
URL:https://minorityaidssupport.org/event/ladiez-night-bowling-party/
END:VEVENT
BEGIN:VEVENT
DTSTART;TZID=America/New_York:20230708T130000
DTEND;TZID=America/New_York:20230708T170000
DTSTAMP:20260425T231222
CREATED:20230706T121912Z
LAST-MODIFIED:20230706T121912Z
UID:3778-1688821200-1688835600@minorityaidssupport.org
SUMMARY:H.O.P.E Health Fair in Norfolk
DESCRIPTION:The H.O.P.E. Foundation is hosting its’ annual Health Fair. MASS will have a table. Lunch is provided. Join us.
URL:https://minorityaidssupport.org/event/h-o-p-e-health-fair-in-norfolk/
LOCATION:Church Street & Virginia Beach Boulvard
END:VEVENT
BEGIN:VEVENT
DTSTART;TZID=America/New_York:20230624T120000
DTEND;TZID=America/New_York:20230624T170000
DTSTAMP:20260425T231222
CREATED:20230606T034103Z
LAST-MODIFIED:20230606T034103Z
UID:3775-1687608000-1687626000@minorityaidssupport.org
SUMMARY:Norfolk PrideFest ‘BreakFree 23’
DESCRIPTION:Join us at the Norfolk PrideFest ‘BreakFree 23’ on June 24th! MASS will be present from 12pm-5pm.
URL:https://minorityaidssupport.org/event/norfolk-pridefest-breakfree-23/
END:VEVENT
BEGIN:VEVENT
DTSTART;TZID=America/New_York:20230622T180000
DTEND;TZID=America/New_York:20230622T210000
DTSTAMP:20260425T231222
CREATED:20230606T033835Z
LAST-MODIFIED:20230606T033835Z
UID:3772-1687456800-1687467600@minorityaidssupport.org
SUMMARY:LadieZ Night Out Support Group – Meet & Greet Kick Back
DESCRIPTION:LadieZ Night Out Support Group. Transgender Support Group. 1401\nTidewater Dr. Ste. 10\, Norfolk\, VA 23504 (flyer below.)
URL:https://minorityaidssupport.org/event/ladiez-night-out-support-group-meet-greet-kick-back-2/
LOCATION:1401 Tidewater Dr. Ste. 10\, Norfolk 23504.
END:VEVENT
BEGIN:VEVENT
DTSTART;TZID=America/New_York:20230603T110000
DTEND;TZID=America/New_York:20230603T170000
DTSTAMP:20260425T231222
CREATED:20230606T033510Z
LAST-MODIFIED:20230606T033510Z
UID:3769-1685790000-1685811600@minorityaidssupport.org
SUMMARY:Portsmouth Pride Fest
DESCRIPTION:Join MASS for food\, family fun\, and more at the Portsmouth Pride Fest.\nSaturday\, June 3 | 11AM – 5PM\nFestival Park\, Portsmouth Waterfront\nPortsmouth Pride Fest will benefit local LGBTQIA+ charities and nonprofits that are working\nto build a stronger\, safer community for all. MASS is both a vendor & conducting on-site testing.\nLearn more:\nhttps://www.portsmouthprideva.com/
URL:https://minorityaidssupport.org/event/portsmouth-pride-fest-2/
END:VEVENT
BEGIN:VEVENT
DTSTART;TZID=America/New_York:20230525T180000
DTEND;TZID=America/New_York:20230525T210000
DTSTAMP:20260425T231222
CREATED:20230504T042053Z
LAST-MODIFIED:20230504T042053Z
UID:3757-1685037600-1685048400@minorityaidssupport.org
SUMMARY:LadieZ Night Out Support Group – Meet & Greet Kick Back
DESCRIPTION:What are your needs? Join us on May 25th as we introduce you to our Needle Exchange Program.\n\n\nFor more information call Latoya Perkins at 757-664-3595 ext. 101
URL:https://minorityaidssupport.org/event/ladiez-night-out-support-group-meet-greet-kick-back/
LOCATION:1401 Tidewater Dr. Ste. 10\, Norfolk 23504.
END:VEVENT
BEGIN:VEVENT
DTSTART;TZID=America/New_York:20230513T130000
DTEND;TZID=America/New_York:20230513T150000
DTSTAMP:20260425T231222
CREATED:20230324T203456Z
LAST-MODIFIED:20230324T203531Z
UID:3735-1683982800-1683990000@minorityaidssupport.org
SUMMARY:The Courage to Ignite Action Showcase
DESCRIPTION:The Courage to Ignite Action Show Case will actively seek justice and peace through a presentation of the arts.\n \nTalent performed will address the presenter’s way of life. ex: (visibility\, current issues in politics\, injustices\, and growth throughout your lives and or\, community lifestyles). \nThe main objective is to amplify the voices of LGBT+. The platform will address the needs of the community and awareness but also display community talents. Performers will sing\, rap\, dance\, perform spoken word or poetry\, or play an instrument. The showcase will help create equity and create change. \nThe event will be in person on May 13\, 2023\, at Downing-Gross Cultural Arts Center. \nGet your ticket here: https://www.eventbrite.com/e/courage-to-ignite-action-showcase-tickets-591700370737
URL:https://minorityaidssupport.org/event/the-courage-to-ignite-action-showcase/
LOCATION:Downing-Gross Cultural Arts Center 2410 Wickham Avenue Newport News\, VA 23607
END:VEVENT
BEGIN:VEVENT
DTSTART;TZID=America/New_York:20230414T193000
DTEND;TZID=America/New_York:20230414T213000
DTSTAMP:20260425T231222
CREATED:20230324T210200Z
LAST-MODIFIED:20230324T221859Z
UID:3741-1681500600-1681507800@minorityaidssupport.org
SUMMARY:Xi Theta Colony of Kappa Alpha Psi sand MASS at Christopher Newport University for Free HIV\, STI\, and Covid Testing
DESCRIPTION:Join the Xi Theta Colony of Kappa Alpha Psi sand MASS at Christopher Newport University for Free HIV\, STI\, and Covid Testing.  \nThe event is from 7:30 pm -9:30 pm at the David Student Union. \nCNU Campus Address: 1 Avenue of the Arts\, Newport News\, VA 23606
URL:https://minorityaidssupport.org/event/3741/
LOCATION:1 Avenue of the Arts\, Newport News\, VA 23606
END:VEVENT
BEGIN:VEVENT
DTSTART;TZID=America/New_York:20230407T180000
DTEND;TZID=America/New_York:20230407T200000
DTSTAMP:20260425T231222
CREATED:20230327T024732Z
LAST-MODIFIED:20230327T030012Z
UID:3753-1680890400-1680897600@minorityaidssupport.org
SUMMARY:“Let’s Talk About Sex” Chat & Chew at NSU
DESCRIPTION:Join us for Chat & Chew with Marvette (Phlebotomist/STI Counselor)\, Jerome (Non-Medical Case Manager)\, Schwonda (Housing Managers)\, Lynea (Food Voucher Coordinator/HIV Advocate) & Deondre (ODU MCM Intern) of MASS. Our panel will also include peer counselors from NSU. \nFriday\, 4/7/23 6pm-8pm \n \nOur audience can write down a question for the panel to answer. The topics covered are: \n1) Understanding HIV\, Myths vs Facts\n2) PrEP\, Pep\, STI’s & Protection\n3) LGBTQ+ &amp; Gender Identity\n4) Abstinence &amp; Birth control\n5) Needle Exchange Program
URL:https://minorityaidssupport.org/event/lets-talk-about-sex-chat-chew-at-nsu/
LOCATION:Norfolk State University Hugo Madison Hall Lecture room #156
END:VEVENT
BEGIN:VEVENT
DTSTART;VALUE=DATE:20230401
DTEND;VALUE=DATE:20230402
DTSTAMP:20260425T231222
CREATED:20230324T202856Z
LAST-MODIFIED:20230324T204114Z
UID:3732-1680307200-1680393599@minorityaidssupport.org
SUMMARY:The Courage to Ignite Action Show Case
DESCRIPTION:The Courage to Ignite Action Show Case will actively seek justice and peace through a presentation of the arts.\nTalent performed will address the presenter’s way of life.\nex: (visibility\, current issues in politics\, injustices\, and\, or growth throughout your lives and or\, community lifestyles).\nThe main objective is to amplify the voices of LGBT+.\nBy giving YOU a platform to not only address needs in the community and awareness but also display your talents.\nDo you sing\, rap dance\, perform spoken word or poetry\, or play an instrument?\nAwesome because TTMOC stands behind the idea of monetized funds for your work.\nTake full advantage of the platform providing your talents to help create equity and create change.\nPlanning meetings will be set for once a month.\nThe final rehearsal is mandatory on May 12\, 2023\nThe event will be in person on May 13\, 2023\, at Downing-Gross Cultural Arts Center \nWe are accepting applications until April 1\, 2023 \nhttps://www.thrivingtransmenofcolor.org/show-case-sign-up \nGet your ticket here: https://www.eventbrite.com/e/courage-to-ignite-action-showcase-tickets-591700370737 \n 
URL:https://minorityaidssupport.org/event/the-courage-to-ignite-action-show-case/
END:VEVENT
BEGIN:VEVENT
DTSTART;TZID=America/New_York:20230203T160000
DTEND;TZID=America/New_York:20230203T190000
DTSTAMP:20260425T231222
CREATED:20230123T191142Z
LAST-MODIFIED:20230316T115806Z
UID:3614-1675440000-1675450800@minorityaidssupport.org
SUMMARY:MASS providing FREE & CONFIDENTIAL MonkeyPox Vaccinations
DESCRIPTION:Keep calm and get vaccinated!! No sign-up is required. Just bring yourself and tell a friend. \n 
URL:https://minorityaidssupport.org/event/mass-providing-free-confidential-monkeypox-vaccination/
LOCATION:The Wave\, 4107 Colley Ave\, Norfolk\, VA\, 23508\, United States
END:VEVENT
BEGIN:VEVENT
DTSTART;TZID=America/New_York:20230127T090000
DTEND;TZID=America/New_York:20230421T170000
DTSTAMP:20260425T231222
CREATED:20230128T034737Z
LAST-MODIFIED:20230128T034737Z
UID:3622-1674810000-1682096400@minorityaidssupport.org
SUMMARY:Something in The Water Raffle
DESCRIPTION:Something In The Water raffle. Come and get tested and mention this raffle\, you\nwill be entered into the contest to win 2 tickets to Something In The Water from April 28th – 30th. Contest Ends\nFriday\, April 21st. The winner will be announced on April 25th. Must schedule an appointment to enter.
URL:https://minorityaidssupport.org/event/something-in-the-water-raffle/
END:VEVENT
BEGIN:VEVENT
DTSTART;TZID=America/New_York:20221201T090000
DTEND;TZID=America/New_York:20221201T090000
DTSTAMP:20260425T231222
CREATED:20221108T190916Z
LAST-MODIFIED:20221116T140901Z
UID:3590-1669885200-1669885200@minorityaidssupport.org
SUMMARY:World AIDS DAY
DESCRIPTION:MASS will provide FREE STI Testing at Portsmouth Health Department.  Door Prizes\, Entertainment\, Food\, and giveaways \n 
URL:https://minorityaidssupport.org/event/world-aids-day-2/
LOCATION:1701 High Street; Portsmouth\, VA 23704.\, 1701 High Street\, Portsmoutn\, VA\, 23704\, United States
END:VEVENT
END:VCALENDAR