BEGIN:VCALENDAR
VERSION:2.0
PRODID:-//Minority Aids Support Services - ECPv6.15.11//NONSGML v1.0//EN
CALSCALE:GREGORIAN
METHOD:PUBLISH
X-WR-CALNAME:Minority Aids Support Services
X-ORIGINAL-URL:https://minorityaidssupport.org
X-WR-CALDESC:Events for Minority Aids Support Services
REFRESH-INTERVAL;VALUE=DURATION:PT1H
X-Robots-Tag:noindex
X-PUBLISHED-TTL:PT1H
BEGIN:VTIMEZONE
TZID:America/New_York
BEGIN:DAYLIGHT
TZOFFSETFROM:-0500
TZOFFSETTO:-0400
TZNAME:EDT
DTSTART:20230312T070000
END:DAYLIGHT
BEGIN:STANDARD
TZOFFSETFROM:-0400
TZOFFSETTO:-0500
TZNAME:EST
DTSTART:20231105T060000
END:STANDARD
BEGIN:DAYLIGHT
TZOFFSETFROM:-0500
TZOFFSETTO:-0400
TZNAME:EDT
DTSTART:20240310T070000
END:DAYLIGHT
BEGIN:STANDARD
TZOFFSETFROM:-0400
TZOFFSETTO:-0500
TZNAME:EST
DTSTART:20241103T060000
END:STANDARD
BEGIN:DAYLIGHT
TZOFFSETFROM:-0500
TZOFFSETTO:-0400
TZNAME:EDT
DTSTART:20250309T070000
END:DAYLIGHT
BEGIN:STANDARD
TZOFFSETFROM:-0400
TZOFFSETTO:-0500
TZNAME:EST
DTSTART:20251102T060000
END:STANDARD
BEGIN:DAYLIGHT
TZOFFSETFROM:-0500
TZOFFSETTO:-0400
TZNAME:EDT
DTSTART:20260308T070000
END:DAYLIGHT
BEGIN:STANDARD
TZOFFSETFROM:-0400
TZOFFSETTO:-0500
TZNAME:EST
DTSTART:20261101T060000
END:STANDARD
END:VTIMEZONE
BEGIN:VEVENT
DTSTART;TZID=America/New_York:20250601T110000
DTEND;TZID=America/New_York:20250601T150000
DTSTAMP:20260425T171131
CREATED:20250528T155250Z
LAST-MODIFIED:20250528T155250Z
UID:4280-1748775600-1748790000@minorityaidssupport.org
SUMMARY:Celebrate Pride with MASS at Portsmouth Pride Fest
DESCRIPTION:  \nKick off Pride Month with us at Portsmouth Pride Fest! Bring your friends and family for a day full of food\, fun\, and community vibes. \nMASS will be there as a vendor\, offering free and confidential HIV/STI testing from our mobile van to support local LGBTQIA+ organizations doing powerful work to uplift and protect our community. \nStop by\, say hello\, and show your pride! 🏳️‍🌈 \nLearn more: https://www.portsmouthprideva.com/
URL:https://minorityaidssupport.org/event/celebrate-pride-with-mass-at-portsmouth-pride-fest/
LOCATION:Festival Park\, Portsmouth Waterfront
END:VEVENT
BEGIN:VEVENT
DTSTART;TZID=America/New_York:20250523T100000
DTEND;TZID=America/New_York:20250523T150000
DTSTAMP:20260425T171131
CREATED:20250501T181808Z
LAST-MODIFIED:20250501T181808Z
UID:4233-1747994400-1748012400@minorityaidssupport.org
SUMMARY:Sentara 3D Mobile Mammography at MASS – Norfolk
DESCRIPTION:Get convenient\, high-quality breast cancer screenings with Sentara’s 3D Mobile Mammography right outside our office in Norfolk. This mobile service brings advanced imaging technology directly to the community\, making it easier than ever to prioritize your health. \nAppointment is required. \nHow to Schedule: \nCall: 757-904-0058 ext. 106 \nOr click here \nWhy Get Screened: \n\nEarly detection saves lives\nQuick\, convenient access to care\nComfortable and confidential experience
URL:https://minorityaidssupport.org/event/sentara-3d-mobile-mammography-at-mass-norfolk/
LOCATION:1401 Tidewater Dr. Ste. 10\, Norfolk 23504.
END:VEVENT
BEGIN:VEVENT
DTSTART;TZID=America/New_York:20250516T120000
DTEND;TZID=America/New_York:20250516T130000
DTSTAMP:20260425T171131
CREATED:20250501T182356Z
LAST-MODIFIED:20250501T182356Z
UID:4230-1747396800-1747400400@minorityaidssupport.org
SUMMARY:MASS Live on WNSB – Annual Membership Drive
DESCRIPTION:Tune in as Keisha represents MASS live on WNSB Hot 91.1 FM at their Annual Membership Drive! \nThis is a great opportunity to learn more about our programs\, upcoming events\, and how we’re making a difference in public health across the region. \nHow to Listen: Tune in to WNSB Hot 91.1 FM
URL:https://minorityaidssupport.org/event/mass-live-on-wnsb-annual-membership-drive/
LOCATION:VA
END:VEVENT
BEGIN:VEVENT
DTSTART;TZID=America/New_York:20250514T160000
DTEND;TZID=America/New_York:20250514T190000
DTSTAMP:20260425T171131
CREATED:20250501T173052Z
LAST-MODIFIED:20250501T173052Z
UID:4224-1747238400-1747249200@minorityaidssupport.org
SUMMARY:MASS Extended Testing Clinic – Norfolk
DESCRIPTION:The MASS Extended Testing Clinic in Norfolk offers free and confidential HIV/STI testing\, screenings\, counseling\, and referral services in a safe and supportive environment. Services are provided by appointment to ensure privacy and personalized care. \nIn addition to testing services\, CHR services will be available at the same location until 7:00 PM. \nRecurring Event: Holds every 2nd Wednesday of the month at the Norfolk location. \nServices Include: \n\nHIV/STI testing and screening\nOne-on-one counseling\nReferral services\nAccess to CHR support through 7 PM
URL:https://minorityaidssupport.org/event/mass-extended-testing-clinic-norfolk/
LOCATION:Norfolk Office\, 2415 Lafayette Blvd\, Norfolk\, VA 23509
END:VEVENT
BEGIN:VEVENT
DTSTART;TZID=America/New_York:20250513T180000
DTEND;TZID=America/New_York:20250513T193000
DTSTAMP:20260425T171131
CREATED:20250501T114618Z
LAST-MODIFIED:20250501T181954Z
UID:4216-1747159200-1747164600@minorityaidssupport.org
SUMMARY:HIV Support Group – Newport News
DESCRIPTION:  \nJoin us for a safe\, supportive space at our HIV Support Group\, designed for individuals living with HIV to connect\, share experiences\, and receive emotional support. Meetings are facilitated in a confidential and welcoming environment. \nParticipation is by appointment only. \nWhy Attend: \n\nBuild community\nShare experiences\nGain valuable support and resources\nLearn from others in a judgment-free setting\n\nRecurring Event: Every 2nd Tuesday of the month at the Newport News office. \n 
URL:https://minorityaidssupport.org/event/hiv-support-group-newport-news/
LOCATION:Newport News Office\, 247 28th Street\, Suite 100\, Newport News\, VA 23607
END:VEVENT
BEGIN:VEVENT
DTSTART;TZID=America/New_York:20250507T160000
DTEND;TZID=America/New_York:20250507T194500
DTSTAMP:20260425T171131
CREATED:20250501T104621Z
LAST-MODIFIED:20250501T104700Z
UID:4210-1746633600-1746647100@minorityaidssupport.org
SUMMARY:MASS Extended Testing Clinic – Newport News
DESCRIPTION:Join us for our MASS Extended Testing Clinic in Newport News\, offering free and confidential HIV and STI testing\, screenings\, counseling\, and referral services. This extended-hours clinic is part of our ongoing effort to make sexual health services more accessible to the community. \nAppointments are required to be seen at the clinic. In addition\, the CHR drive-up window will remain open until 8:00 PM for added convenience. \nHow to Participate: \n\nSchedule an appointment in advance\nVisit our clinic at the scheduled time\nUse the drive-up window service until 8 PM if needed\n\nTake charge of your health in a safe\, supportive environment.
URL:https://minorityaidssupport.org/event/mass-extended-testing-clinic-newport-news/
LOCATION:2715 Huntington\, Newport News\, VA 23607\, 2715 Huntington\, Newport News\, VA 23607\, Newport News\, VA\, 23607\, United States
END:VEVENT
BEGIN:VEVENT
DTSTART;TZID=America/New_York:20250423T120000
DTEND;TZID=America/New_York:20250423T150000
DTSTAMP:20260425T171131
CREATED:20250401T120750Z
LAST-MODIFIED:20250401T120750Z
UID:4186-1745409600-1745420400@minorityaidssupport.org
SUMMARY:Breakthrough to Hope Event
DESCRIPTION:Breakthrough to Hope is a community event focused on awareness\, empowerment\, and well-being! \nMASS will be on-site offering free HIV/STI testing\, distributing educational resources\, and giving away awesome swag items. \nStop by\, get informed\, and take charge of your health in a welcoming and supportive space! \n📅 Date: Wednesday\, April 23\, 2025⏰ Time: 12:00 PM – 3:00 PM📍 Location: Field behind Tinee Giant\, 698 Chapel Street\, Norfolk\, VA 23504 \nNo appointments needed!
URL:https://minorityaidssupport.org/event/breakthrough-to-hope-event-2/
LOCATION:698 Chapel Street\, Norfolk\, VA 23504
END:VEVENT
BEGIN:VEVENT
DTSTART;TZID=America/New_York:20250418T090000
DTEND;TZID=America/New_York:20250418T150000
DTSTAMP:20260425T171131
CREATED:20250404T220157Z
LAST-MODIFIED:20250404T221446Z
UID:4195-1744966800-1744988400@minorityaidssupport.org
SUMMARY:National Transgender HIV Testing Day
DESCRIPTION:April 18th is National Transgender HIV Testing Day (NTHTD)\, a day to recognize the importance of HIV testing\, prevention\, and treatment for transgender and gender non-conforming individuals. \nGet Tested & Enter The Raffle For A Chance To Win 2 Tickets to see Coco Jones & Lady London and A Gift Basket! \n📍 Location: 2415 Lafayette Blvd\, Norfolk\, VA 23509⏰ Testing Time: 9 AM – 3 PM
URL:https://minorityaidssupport.org/event/4195/
LOCATION:Norfolk Office 2415 Lafayette Blvd\, Norfolk\, VA 23509.\, Norfolk Office 2415\, Norfolk\, VA\, 23509\, United States
END:VEVENT
BEGIN:VEVENT
DTSTART;TZID=America/New_York:20250409T160000
DTEND;TZID=America/New_York:20250409T190000
DTSTAMP:20260425T171131
CREATED:20250401T115823Z
LAST-MODIFIED:20250401T115823Z
UID:4182-1744214400-1744225200@minorityaidssupport.org
SUMMARY:MASS Extended Hours Testing Clinic – Norfolk
DESCRIPTION:Take control of your health with our extended testing hours! \nEnjoy free and confidential HIV/STI testing\, screening\, counseling\, and referral services in a safe and supportive environment. \nAppointments are required. \n📅 Date: Wednesday\, April 9\, 2025 (and every 2nd Wednesday of the month)⏰ Time: 4:00 PM – 7:00 PM📍 Location: Norfolk Office\, 2415 Lafayette Blvd\, Norfolk\, VA 23509 \nAdditionally\, CHR services will be available until 7:00 PM.
URL:https://minorityaidssupport.org/event/mass-extended-hours-testing-clinic-norfolk/
LOCATION:Norfolk Office\, 2415 Lafayette Blvd\, Norfolk\, VA 23509
END:VEVENT
BEGIN:VEVENT
DTSTART;TZID=America/New_York:20250408T180000
DTEND;TZID=America/New_York:20250408T193000
DTSTAMP:20260425T171131
CREATED:20250401T113159Z
LAST-MODIFIED:20250401T113159Z
UID:4177-1744135200-1744140600@minorityaidssupport.org
SUMMARY:HIV Support Group
DESCRIPTION:Join us for our monthly HIV Support Group\, a safe and welcoming space for individuals to connect\, share experiences\, and receive support. Whether you’re seeking guidance\, encouragement\, or simply a sense of community\, we’re here for you. \nFor more information\, please refer to the event flyer or contact us. We look forward to seeing you! \n📅 Date: Tuesday\, April 8\, 2025 (and every 2nd Tuesday of the month)⏰ Time: 6:00 PM – 7:30 PM (ET)📍 Location: Newport News Office\, 247 28th Street\, Suite 100\, Newport News\, VA 23607
URL:https://minorityaidssupport.org/event/hiv-support-group/
LOCATION:Newport News Office\, 247 28th Street\, Suite 100\, Newport News\, VA 23607
END:VEVENT
BEGIN:VEVENT
DTSTART;TZID=America/New_York:20250408T110000
DTEND;TZID=America/New_York:20250408T133000
DTSTAMP:20260425T171131
CREATED:20250404T223017Z
LAST-MODIFIED:20250404T223017Z
UID:4198-1744110000-1744119000@minorityaidssupport.org
SUMMARY:Hampton University Men's Mental Health Brunch
DESCRIPTION:Join us for an empowering brunch at Hampton University as we break the silence around men’s mental health. \n🗓 Tuesday\, April 8th\, 2025 \n⏰ 11:00 AM – 1:30 PM (Doors open at 10:30 AM) \n📍 Shecare Wellness Pods \nRSVP required! Scan the QR code on the flyer to secure your spot. \n👔 Dress Code: Business Casual \n  \n\n \n 
URL:https://minorityaidssupport.org/event/hampton-university-mens-mental-health-brunch/
LOCATION:Shecare Wellness Pod
END:VEVENT
BEGIN:VEVENT
DTSTART;TZID=America/New_York:20250402T160000
DTEND;TZID=America/New_York:20250402T194500
DTSTAMP:20260425T171131
CREATED:20250401T104533Z
LAST-MODIFIED:20250401T104533Z
UID:4175-1743609600-1743623100@minorityaidssupport.org
SUMMARY:MASS Extended Testing Clinic hours (NEWPORT NEWS)
DESCRIPTION:Join us at our Newport clinic every first Wednesday of the month for free and confidential HIV/STI testing\, screening\, counseling\, and referral services. Prioritizing your health has never been easier! \nAppointments Required – Secure your spot today! \nBonus: The CHR drive-up window is open until 8 PM for added convenience!
URL:https://minorityaidssupport.org/event/mass-extended-testing-clinic-hours-newport-news-10/
LOCATION:2715 Huntington\, Newport News\, VA 23607\, 2715 Huntington\, Newport News\, VA 23607\, Newport News\, VA\, 23607\, United States
END:VEVENT
BEGIN:VEVENT
DTSTART;TZID=America/New_York:20250326T120000
DTEND;TZID=America/New_York:20250326T150000
DTSTAMP:20260425T171131
CREATED:20250311T164225Z
LAST-MODIFIED:20250311T164225Z
UID:4171-1742990400-1743001200@minorityaidssupport.org
SUMMARY:Breakthrough to Hope Event
DESCRIPTION:MASS is proud to support the community by offering free HIV/STI testing\, educational resources\, and exclusive swag items. \nStop by our table to learn more\, get tested\, and take home some great giveaways! \nLet’s break barriers and build a healthier future together. \n📍 Field Behind P.B. Young Elementary543 East Olney Rd.\, Norfolk\, VA 23510
URL:https://minorityaidssupport.org/event/breakthrough-to-hope-event/
LOCATION:543 East Olney Rd.\, Norfolk\, VA 23510
END:VEVENT
BEGIN:VEVENT
DTSTART;TZID=America/New_York:20250312T160000
DTEND;TZID=America/New_York:20250312T190000
DTSTAMP:20260425T171131
CREATED:20250311T161705Z
LAST-MODIFIED:20250311T161705Z
UID:4163-1741795200-1741806000@minorityaidssupport.org
SUMMARY:MASS Extended Testing Clinic hours (NORFOLK)
DESCRIPTION:Offering free and confidential HIV/STI testing\, screening\, counseling and referral services at the Norfolk Office 2415 Lafayette Blvd\, Norfolk\, VA 23509. Appointment required. \nDate: Every 2nd Wednesday of the Month – additionally CHR services until 7 pm
URL:https://minorityaidssupport.org/event/mass-extended-testing-clinic-hours-norfolk-10/
LOCATION:Norfolk Office 2415 Lafayette Blvd\, Norfolk\, VA 23509.\, Norfolk Office 2415\, Norfolk\, VA\, 23509\, United States
END:VEVENT
BEGIN:VEVENT
DTSTART;TZID=America/New_York:20250311T180000
DTEND;TZID=America/New_York:20250311T193000
DTSTAMP:20260425T171131
CREATED:20250311T161213Z
LAST-MODIFIED:20250311T164456Z
UID:4160-1741716000-1741721400@minorityaidssupport.org
SUMMARY:Monthly HIV Support Group Meeting
DESCRIPTION:  \nJoin us for our monthly HIV Support Group meeting at our Newport News Office located at 247 28th Street\, Suite 100\, Newport News\, VA 23607. \nDate: Every 2nd Tuesday of the Month \nWe look forward to your participation and the opportunity to mutually support one another.
URL:https://minorityaidssupport.org/event/monthly-hiv-support-group-meeting/
LOCATION:47 28th Street\, Suite 100\, Newport News\, VA 23607.
END:VEVENT
BEGIN:VEVENT
DTSTART;TZID=America/New_York:20250308T100000
DTEND;TZID=America/New_York:20250311T120000
DTSTAMP:20260425T171131
CREATED:20250311T160828Z
LAST-MODIFIED:20250311T163154Z
UID:4157-1741428000-1741694400@minorityaidssupport.org
SUMMARY:National Week of Prayer for the Healing of AIDS Event
DESCRIPTION:MASS will be onsite with a resource table\, providing educational materials and exclusive swag items to promote awareness and support for the community. \nCome visit us to learn more and show your support! \n(Please note: While the event flyer mentions HIV testing\, we will only be distributing literature and swag items at this event.) \nAIDS \n📍 Emmanuel Church 704 Celey Street\, Hampton\, VA 23661
URL:https://minorityaidssupport.org/event/national-week-of-prayer-for-the-healing-of-aids-event/
LOCATION:Emmanuel Church 704 Celey Street\, Hampton\, VA 23661
END:VEVENT
BEGIN:VEVENT
DTSTART;TZID=America/New_York:20250305T160000
DTEND;TZID=America/New_York:20250326T194500
DTSTAMP:20260425T171131
CREATED:20250311T155600Z
LAST-MODIFIED:20250311T160052Z
UID:4153-1741190400-1743018300@minorityaidssupport.org
SUMMARY:MASS Extended Testing Clinic hours (NEWPORT NEWS).
DESCRIPTION:Offering free and confidential HIV/STI testing\, screening\, counseling\, and referral services at the Clinic location 2715 Huntington\, Newport News\, VA 23607. Appointment required. \nDate: Every 1st Wednesday of the Month – additionally\, the CHR drive-up window is open until 8 pm.
URL:https://minorityaidssupport.org/event/mass-extended-testing-clinic-hours-newport-news-9/
LOCATION:2715 Huntington\, Newport News\, VA 23607.
END:VEVENT
BEGIN:VEVENT
DTSTART;TZID=America/New_York:20250212T160000
DTEND;TZID=America/New_York:20250212T190000
DTSTAMP:20260425T171131
CREATED:20250126T192148Z
LAST-MODIFIED:20250126T192148Z
UID:4145-1739376000-1739386800@minorityaidssupport.org
SUMMARY:MASS Extended Testing Clinic hours (NORFOLK)
DESCRIPTION:Offering free and confidential HIV/STI testing\, screening\, counseling\, and referral services at the Norfolk Office 2415 Lafayette Blvd\, Norfolk\, VA 23509. \nAppointment required. \nDate: Every 2nd Wednesday of the Month – additionally CHR services until 7 pm \nPlease be advised that our Norfolk Night Clinic hours have changed and will now end at 7 pm instead of 8 pm.
URL:https://minorityaidssupport.org/event/mass-extended-testing-clinic-hours-norfolk-9/
LOCATION:VA
END:VEVENT
BEGIN:VEVENT
DTSTART;TZID=America/New_York:20250211T180000
DTEND;TZID=America/New_York:20250211T193000
DTSTAMP:20260425T171131
CREATED:20250126T191745Z
LAST-MODIFIED:20250307T214711Z
UID:4141-1739296800-1739302200@minorityaidssupport.org
SUMMARY:Monthly HIV Support Group Meeting at Our Newport News Office
DESCRIPTION:  \nJoin us for our monthly HIV Support Group meeting at our Newport News Office located at 247 28th Street\, Suite 100\, Newport News\, VA 23607. \nDate: Every 2nd Tuesday of the Month \nWe look forward to your participation and the opportunity to mutually support one another.
URL:https://minorityaidssupport.org/event/monthly-hiv-support-group-meeting-at-our-newport-news-office/
LOCATION:VA
END:VEVENT
BEGIN:VEVENT
DTSTART;TZID=America/New_York:20250205T160000
DTEND;TZID=America/New_York:20250205T194500
DTSTAMP:20260425T171131
CREATED:20250126T190616Z
LAST-MODIFIED:20250126T191520Z
UID:4139-1738771200-1738784700@minorityaidssupport.org
SUMMARY:MASS Extended Testing Clinic hours (NEWPORT NEWS)
DESCRIPTION:Offering free and confidential HIV/STI testing\, screening\, counselling\, and referral services at the Clinic location 2715 Huntington\, Newport News\, VA 23607. \nDate: Every 1st Wednesday of the Month – additionally\, the CHR drive-up window is open until 8 pm \nAppointment is required.
URL:https://minorityaidssupport.org/event/mass-extended-testing-clinic-hours-newport-news-8/
LOCATION:2715 Huntington\, Newport News\, VA 23607\, 2715 Huntington\, Newport News\, VA 23607\, Newport News\, VA\, 23607\, United States
END:VEVENT
BEGIN:VEVENT
DTSTART;VALUE=DATE:20241223
DTEND;VALUE=DATE:20250104
DTSTAMP:20260425T171131
CREATED:20241207T191827Z
LAST-MODIFIED:20241207T191827Z
UID:4092-1734912000-1735948799@minorityaidssupport.org
SUMMARY:MASS CLOSED from 12pm on December 23rd  – January 3rd
DESCRIPTION:
URL:https://minorityaidssupport.org/event/mass-closed-from-12pm-on-december-23rd-january-3rd/
LOCATION:VA
END:VEVENT
BEGIN:VEVENT
DTSTART;TZID=America/New_York:20241211T163000
DTEND;TZID=America/New_York:20241211T190000
DTSTAMP:20260425T171131
CREATED:20240901T043959Z
LAST-MODIFIED:20241207T192125Z
UID:4017-1733934600-1733943600@minorityaidssupport.org
SUMMARY:MASS Extended Testing Clinic hours (NORFOLK).
DESCRIPTION:MASS Extended Testing Clinic hours (NORFOLK). Offering free and\nconfidential HIV/STI testing\, screening\, counseling\, and referral services at the Norfolk Office 2415\nLafayette Blvd\, Norfolk\, VA 23509. By appointment only. FYI\, the evening clinic\n(extended hours) is every 2ND Wednesday of the Month. CHR services until 8 pm. \n 
URL:https://minorityaidssupport.org/event/mass-extended-testing-clinic-hours-norfolk-8/
LOCATION:Norfolk Office 2415 Lafayette Blvd\, Norfolk\, VA 23509.\, Norfolk Office 2415\, Norfolk\, VA\, 23509\, United States
END:VEVENT
BEGIN:VEVENT
DTSTART;TZID=America/New_York:20241210T180000
DTEND;TZID=America/New_York:20241210T193000
DTSTAMP:20260425T171131
CREATED:20240908T043214Z
LAST-MODIFIED:20241207T191948Z
UID:4022-1733853600-1733859000@minorityaidssupport.org
SUMMARY:MASS HIV Support Group
DESCRIPTION:Join our HIV Support Group every 2nd Tuesday of the Month. \n 
URL:https://minorityaidssupport.org/event/mass-hiv-support-group-6/
LOCATION:Minority AIDS Support Services (Newport News Office)\, 247 28th Street\, Suite 100\, Newport News\, VA\, 23697\, United States
END:VEVENT
BEGIN:VEVENT
DTSTART;TZID=America/New_York:20241204T163000
DTEND;TZID=America/New_York:20241204T194500
DTSTAMP:20260425T171131
CREATED:20241002T040156Z
LAST-MODIFIED:20241207T192042Z
UID:4014-1733329800-1733341500@minorityaidssupport.org
SUMMARY:MASS Extended Testing Clinic hours (NEWPORT NEWS)
DESCRIPTION:MASS Extended Testing Clinic hours (NEWPORT NEWS). Offering free\nand confidential HIV/STI testing\, screening\, counseling\, and referral services at the New Clinic location\n2715 Huntington\, Newport News\, VA 23607. By appointment only. FYI\, the evening clinic (extended hours) is\nevery 1st Wednesday of the Month. Additional CHR Drive-up window open until 8 pm \n 
URL:https://minorityaidssupport.org/event/mass-extended-testing-clinic-hours-newport-news-7/
LOCATION:2715 Huntington\, Newport News\, VA 23607\, 2715 Huntington\, Newport News\, VA 23607\, Newport News\, VA\, 23607\, United States
END:VEVENT
BEGIN:VEVENT
DTSTART;TZID=America/New_York:20241203T110000
DTEND;TZID=America/New_York:20241203T150000
DTSTAMP:20260425T171131
CREATED:20241207T191654Z
LAST-MODIFIED:20241207T191654Z
UID:4088-1733223600-1733238000@minorityaidssupport.org
SUMMARY:World AIDS DAY Observed (WAD)
DESCRIPTION:MASS will provide FREE STI Testing at Calvert Square Envision Center. 975 Bagnall Road\, Norfolk\, VA 23504. Door Prizes\, Entertainment\, Food and giveaways.
URL:https://minorityaidssupport.org/event/world-aids-day-observed-wad/
LOCATION:Calvert Square Envision Center\, 375 Bagnall\, Norfolk\, Virginia\, 23504
END:VEVENT
BEGIN:VEVENT
DTSTART;VALUE=DATE:20241128
DTEND;VALUE=DATE:20241130
DTSTAMP:20260425T171131
CREATED:20241030T193117Z
LAST-MODIFIED:20241030T193117Z
UID:4061-1732752000-1732924799@minorityaidssupport.org
SUMMARY:MASS is Closed For Thanksgiving Holiday
DESCRIPTION:MASS is Closed For Thanksgiving Holiday on 11/28-11/29.
URL:https://minorityaidssupport.org/event/mass-is-closed-for-thanksgiving-holiday/
LOCATION:VA
END:VEVENT
BEGIN:VEVENT
DTSTART;TZID=America/New_York:20241120T120000
DTEND;TZID=America/New_York:20241120T170000
DTSTAMP:20260425T171131
CREATED:20241030T192951Z
LAST-MODIFIED:20241030T192951Z
UID:4059-1732104000-1732122000@minorityaidssupport.org
SUMMARY:MASS Live on WNSB Hot 91
DESCRIPTION:Keisha Edwards will be live on-air at WNSB Hot 91 for the Bi-Annual Membership Drive as Corporate Sponsors.
URL:https://minorityaidssupport.org/event/mass-live-on-wnsb-hot-91/
LOCATION:VA
END:VEVENT
BEGIN:VEVENT
DTSTART;VALUE=DATE:20241111
DTEND;VALUE=DATE:20241112
DTSTAMP:20260425T171131
CREATED:20241030T191911Z
LAST-MODIFIED:20241030T191911Z
UID:4057-1731283200-1731369599@minorityaidssupport.org
SUMMARY:11/11 Closed for Veteran's Day
DESCRIPTION:MASS is closed.
URL:https://minorityaidssupport.org/event/11-11-closed-for-veterans-day/
LOCATION:VA
END:VEVENT
BEGIN:VEVENT
DTSTART;TZID=America/New_York:20241024T180000
DTEND;TZID=America/New_York:20241024T200000
DTSTAMP:20260425T171131
CREATED:20241002T160147Z
LAST-MODIFIED:20241002T160229Z
UID:4053-1729792800-1729800000@minorityaidssupport.org
SUMMARY:2nd Round of Mpox shots
DESCRIPTION:MASS is hosting the second round of mpox vaccine. Individuals need to get both doses of the vaccine for the best protection against Mpox.
URL:https://minorityaidssupport.org/event/2nd-round-of-mpox-shots/
LOCATION:MASS Tidewater
END:VEVENT
BEGIN:VEVENT
DTSTART;TZID=America/New_York:20241019T103000
DTEND;TZID=America/New_York:20241019T130000
DTSTAMP:20260425T171131
CREATED:20241002T155110Z
LAST-MODIFIED:20241002T155110Z
UID:4048-1729333800-1729342800@minorityaidssupport.org
SUMMARY:Red Ribbon Community Walk
DESCRIPTION:MASS will be at the Red Ribbon Community Walk at Peterson Yacht Basin.
URL:https://minorityaidssupport.org/event/red-ribbon-community-walk/
LOCATION:Peterson Yacht Basin\, 16th Street\, Newport News\, VA\, United States
END:VEVENT
END:VCALENDAR