BEGIN:VCALENDAR
VERSION:2.0
PRODID:-//Minority Aids Support Services - ECPv6.15.11//NONSGML v1.0//EN
CALSCALE:GREGORIAN
METHOD:PUBLISH
X-WR-CALNAME:Minority Aids Support Services
X-ORIGINAL-URL:https://minorityaidssupport.org
X-WR-CALDESC:Events for Minority Aids Support Services
REFRESH-INTERVAL;VALUE=DURATION:PT1H
X-Robots-Tag:noindex
X-PUBLISHED-TTL:PT1H
BEGIN:VTIMEZONE
TZID:America/New_York
BEGIN:DAYLIGHT
TZOFFSETFROM:-0500
TZOFFSETTO:-0400
TZNAME:EDT
DTSTART:20250309T070000
END:DAYLIGHT
BEGIN:STANDARD
TZOFFSETFROM:-0400
TZOFFSETTO:-0500
TZNAME:EST
DTSTART:20251102T060000
END:STANDARD
BEGIN:DAYLIGHT
TZOFFSETFROM:-0500
TZOFFSETTO:-0400
TZNAME:EDT
DTSTART:20260308T070000
END:DAYLIGHT
BEGIN:STANDARD
TZOFFSETFROM:-0400
TZOFFSETTO:-0500
TZNAME:EST
DTSTART:20261101T060000
END:STANDARD
BEGIN:DAYLIGHT
TZOFFSETFROM:-0500
TZOFFSETTO:-0400
TZNAME:EDT
DTSTART:20270314T070000
END:DAYLIGHT
BEGIN:STANDARD
TZOFFSETFROM:-0400
TZOFFSETTO:-0500
TZNAME:EST
DTSTART:20271107T060000
END:STANDARD
END:VTIMEZONE
BEGIN:VEVENT
DTSTART;TZID=America/New_York:20260414T180000
DTEND;TZID=America/New_York:20260414T193000
DTSTAMP:20260425T064734
CREATED:20260327T180954Z
LAST-MODIFIED:20260327T180954Z
UID:4586-1776189600-1776195000@minorityaidssupport.org
SUMMARY:MASS HIV Support Group
DESCRIPTION:Join us for our monthly HIV Support Group meeting\, a safe and supportive space to connect\, share\, and uplift one another. \n📍 Location: 247 28th Street\, Suite 100\, Newport News\, VA 23607📅 Date: Every 2nd Tuesday of the month \nWe look forward to your participation and the opportunity to support each other in a positive and welcoming environment.
URL:https://minorityaidssupport.org/event/mass-hiv-support-group-7/
LOCATION:Newport News Office\, 247 28th Street\, Suite 100\, Newport News\, VA 23607
END:VEVENT
END:VCALENDAR